BEGIN:VCALENDAR
VERSION:2.0
CALSCALE:GREGORIAN
PRODID:adamgibbons/ics
METHOD:PUBLISH
X-PUBLISHED-TTL:PT1H
BEGIN:VEVENT
UID:2339@devent.cz
SUMMARY:Sheev (progressive stoner metal) / Incijam (psychedelic rock)
DTSTAMP:20260421T184431Z
DTSTART:20260423T170000Z
DTEND:20260423T213000Z
URL:https://devent.cz/event/sheev-progressive-stoner-metal-incijam-psychede
	lic-rock
LOCATION:Neue Zukunft - Alt-Stralau 68\, 10245 Berlin
STATUS:CONFIRMED
CATEGORIES:berlin,diy,heavy psych,progressive rock,psychedelic rock,stoner 
	metal,stoner rock
END:VEVENT
END:VCALENDAR
